BEGIN:VCALENDAR
VERSION:2.0
PRODID:spatie/icalendar-generator
DESCRIPTION:Events from Pilgrim United Church of Christ
X-WR-CALDESC:Events from Pilgrim United Church of Christ
REFRESH-INTERVAL;VALUE=DURATION:PT1440M
X-PUBLISHED-TTL:PT1440M
BEGIN:VTIMEZONE
TZID:Etc/GMT+7
BEGIN:STANDARD
DTSTART:20250730T100000Z
TZOFFSETFROM:-0700
TZOFFSETTO:-0700
END:STANDARD
END:VTIMEZONE
BEGIN:VTIMEZONE
TZID:UTC
BEGIN:STANDARD
DTSTART:20250725T142134Z
TZOFFSETFROM:+0000
TZOFFSETTO:+0000
END:STANDARD
END:VTIMEZONE
BEGIN:VEVENT
UID:1276-57
DTSTAMP:20260421T142134Z
SUMMARY:Sunday Morning Worship
LOCATION:Sanctuary
ORGANIZER;CN=Adrienne Armes:MAILTO:revadriennearmes@gmail.com
RRULE:FREQ=WEEKLY;UNTIL=20300331T000000Z
DTSTART;TZID=Etc/GMT+7:20260426T100000
DTEND;TZID=Etc/GMT+7:20260426T110000
X-ALT-DESC;FMTTYPE=TEXT/HTML:
CATEGORIES:General
URL;VALUE=URI:https://www.pilgrimucc.org/mc-events/sunday-morning-worship/?
 mc_id=1276
END:VEVENT
END:VCALENDAR