BEGIN:VCALENDAR
VERSION:2.0
PRODID:spatie/icalendar-generator
DESCRIPTION:Events from Pilgrim United Church of Christ
X-WR-CALDESC:Events from Pilgrim United Church of Christ
REFRESH-INTERVAL;VALUE=DURATION:PT1440M
X-PUBLISHED-TTL:PT1440M
BEGIN:VTIMEZONE
TZID:Etc/GMT+7
BEGIN:STANDARD
DTSTART:20240806T150000Z
TZOFFSETFROM:-0700
TZOFFSETTO:-0700
END:STANDARD
END:VTIMEZONE
BEGIN:VTIMEZONE
TZID:UTC
BEGIN:STANDARD
DTSTART:20250725T090107Z
TZOFFSETFROM:+0000
TZOFFSETTO:+0000
END:STANDARD
END:VTIMEZONE
BEGIN:VEVENT
UID:720-25
DTSTAMP:20260421T090107Z
SUMMARY:World Press Freedom Day (Amnesty International)
LOCATION:Sanctuary
ORGANIZER;CN=Adrienne Armes:MAILTO:revadriennearmes@gmail.com
DTSTART;TZID=Etc/GMT+7:20250503T150000
DTEND;TZID=Etc/GMT+7:20250503T180000
X-ALT-DESC;FMTTYPE=TEXT/HTML:
CATEGORIES:General
URL;VALUE=URI:https://www.pilgrimucc.org/mc-events/world-press-freedom-day-
 amnesty-international/?mc_id=720
END:VEVENT
END:VCALENDAR